BEGIN:VCALENDAR
VERSION:2.0
PRODID:-//ChamberMaster//Event Calendar 2.0//EN
METHOD:PUBLISH
X-PUBLISHED-TTL:P3D
REFRESH-INTERVAL:P3D
CALSCALE:GREGORIAN
BEGIN:VEVENT
DTSTART:20260425T220000Z
DTEND:20260426T030000Z
X-MICROSOFT-CDO-ALLDAYEVENT:FALSE
SUMMARY:Guiding Light Gala
DESCRIPTION:The Guiding Light Gala is our signature annual celebration supporting children and families across CCDP and Our Children's Place. The evening features a full dinner\, inspiring stories\, entertainment\, and a vibrant silent auction\, all designed to bring our community together in hope\, generosity\, and joy.
X-ALT-DESC;FMTTYPE=text/html:The Guiding Light Gala is our signature annual celebration supporting children and families across CCDP and Our Children&rsquo\;s Place. The evening features a full dinner\, inspiring stories\, entertainment\, and a vibrant silent auction\, all designed to bring our community together in hope\, generosity\, and joy.
LOCATION:Club 86 Geneva NY 14456
UID:e.292.29421
SEQUENCE:3
DTSTAMP:20260421T085044Z
URL:https://business.onchamber.com/events/details/guiding-light-gala-29421
END:VEVENT

END:VCALENDAR
