BEGIN:VCALENDAR
VERSION:2.0
PRODID:-//ChamberMaster//Event Calendar 2.0//EN
METHOD:PUBLISH
X-PUBLISHED-TTL:P3D
REFRESH-INTERVAL:P3D
CALSCALE:GREGORIAN
BEGIN:VEVENT
DTSTART:20220909T200000Z
DTEND:20220925T010000Z
X-MICROSOFT-CDO-ALLDAYEVENT:FALSE
SUMMARY:The Central on Main
DESCRIPTION:Music\, food and fun. Come join us every Friday and Saturday Night 4pm-9pm. Entertainment Lineup: September 9th Covers Exposed September 10th George Hayes September 16th Old Hippies September 17th Jim E. Legg Trio September 23rd The Fog AND FOR THE GRAND FINALE: FALL WINE & BEER PAIRING EVENT WITH MUSIC BY NATE MICHAEL THE COST FOR THIS EVENT ONLY IS $25 PRESALE/$35 AT THE DOOR TASTINGS FROM FINGER LAKES FINEST WINERIES & CRAFT BREWERIES
X-ALT-DESC;FMTTYPE=text/html:Music\, food and fun. Come join us every Friday and Saturday Night 4pm-9pm. Entertainment Lineup: September 9th Covers Exposed September 10th George Hayes September 16th Old Hippies September 17th Jim E. Legg Trio September 23rd The Fog AND FOR THE GRAND FINALE: FALL WINE &amp\; BEER PAIRING EVENT WITH MUSIC BY NATE MICHAEL THE COST FOR THIS EVENT ONLY IS $25 PRESALE/$35 AT THE DOOR TASTINGS FROM FINGER LAKES FINEST WINERIES &amp\; CRAFT BREWERIES
LOCATION:Downtown Canandaigua
UID:e.292.24182
SEQUENCE:3
DTSTAMP:20260425T194530Z
URL:https://business.onchamber.com/events/details/the-central-on-main-09-09-2022-24182
END:VEVENT

END:VCALENDAR
