BEGIN:VCALENDAR
VERSION:2.0
PRODID:-//ChamberMaster//Event Calendar 2.0//EN
METHOD:PUBLISH
X-PUBLISHED-TTL:P3D
REFRESH-INTERVAL:P3D
CALSCALE:GREGORIAN
BEGIN:VEVENT
DTSTART:20230501T160000Z
DTEND:20231031T160000Z
X-MICROSOFT-CDO-ALLDAYEVENT:FALSE
SUMMARY:Underground Railroad Exhibit
DESCRIPTION:Pathways to Freedom - Reimagining the Underground Railroad An eight-panel traveling exhibit\, available from NYS Office of Parks\, Recreation and Historic Preservation invites viewers to reimagine the Underground Railroad. Taking a new look at the impact of the landscape\, people\, myths\, and legal regulations on freedom seekers passing through New York. Regular Park Hours (Park open from May 1st   October 31st Hours 9:30 am to 4:30 pm Thursday to Monday CLOSED on Tuesdays & Wednesdays)
X-ALT-DESC;FMTTYPE=text/html:Pathways to Freedom - Reimagining the Underground Railroad An eight-panel traveling exhibit\, available from NYS Office of Parks\, Recreation and Historic Preservation invites viewers to reimagine the Underground Railroad. Taking a new look at the impact of the landscape\, people\, myths\, and legal regulations on freedom seekers passing through New York. Regular Park Hours (Park open from May 1st &ndash\; October 31st Hours 9:30 am to 4:30 pm Thursday to Monday CLOSED on Tuesdays &amp\; Wednesdays)
LOCATION:Sonnenberg Gardens & Mansion State Historic Park 250 Gibson St\, Canandaigua\, NY 14424
UID:e.292.25344
SEQUENCE:3
DTSTAMP:20260422T174035Z
URL:https://business.onchamber.com/events/details/underground-railroad-exhibit-25344
END:VEVENT

END:VCALENDAR
