BEGIN:VCALENDAR
VERSION:2.0
PRODID:-//ChamberMaster//Event Calendar 2.0//EN
METHOD:PUBLISH
X-PUBLISHED-TTL:P3D
REFRESH-INTERVAL:P3D
CALSCALE:GREGORIAN
BEGIN:VEVENT
DTSTART:20260314T143000Z
DTEND:20260314T160000Z
X-MICROSOFT-CDO-ALLDAYEVENT:FALSE
SUMMARY:Winter Wild Walk: Early Signs of Spring
DESCRIPTION:Explore winter ecology topics through walks\, talks\, and family-friendly activities alongside one of our expert educators! Join us to wander the Nature Center woods to look for early signs of spring. We will discuss what allows skunk cabbage to emerge before other plants and discover which other plants\, animals\, and phenomena have recently reappeared for the season. What will you notice? This Wild Walk is for all ages (family friendly) and is led by CNC Educator Maureen. Tickets cost $6 for members and $9 for non-members and are available either at the door or online here: https://rmsc.org/events/winter-wild-walk/
X-ALT-DESC;FMTTYPE=text/html:Explore winter ecology topics through walks\, talks\, and family-friendly activities alongside one of our expert educators! Join us to wander the Nature Center woods to look for early signs of spring. We will discuss what allows skunk cabbage to emerge before other plants and discover which other plants\, animals\, and phenomena have recently reappeared for the season. What will you notice? This Wild Walk is for all ages (family friendly) and is led by CNC Educator Maureen. Tickets cost $6 for members and $9 for non-members and are available either at the door or online here: https://rmsc.org/events/winter-wild-walk/
LOCATION:RMSC Cumming Nature Center 6472 Gulick Road Naples\, NY 14512
UID:e.292.29410
SEQUENCE:3
DTSTAMP:20260420T090319Z
URL:https://business.onchamber.com/events/details/winter-wild-walk-early-signs-of-spring-29410
END:VEVENT

END:VCALENDAR
